BEGIN:VCALENDAR
VERSION:2.0
PRODID:-//Eco Communities - ECPv6.15.20//NONSGML v1.0//EN
CALSCALE:GREGORIAN
METHOD:PUBLISH
X-ORIGINAL-URL:https://ecocommunitiesuk.com
X-WR-CALDESC:Events for Eco Communities
REFRESH-INTERVAL;VALUE=DURATION:PT1H
X-Robots-Tag:noindex
X-PUBLISHED-TTL:PT1H
BEGIN:VTIMEZONE
TZID:UTC
BEGIN:STANDARD
TZOFFSETFROM:+0000
TZOFFSETTO:+0000
TZNAME:UTC
DTSTART:20240101T000000
END:STANDARD
END:VTIMEZONE
BEGIN:VEVENT
DTSTART;TZID=UTC:20260418T093000
DTEND;TZID=UTC:20260418T163000
DTSTAMP:20260421T083530
CREATED:20260118T153450Z
LAST-MODIFIED:20260118T153450Z
UID:2012-1776504600-1776529800@ecocommunitiesuk.com
SUMMARY:Eco Communities at Chester Farmers Market
DESCRIPTION:Find the team at Chester Farmers Market each month apart from June\, refill and talk to the team about our work and sustainable living.
URL:https://ecocommunitiesuk.com/event/eco-communities-at-chester-farmers-market-3/
LOCATION:Chester Farmers Market\, Chester Town Hall Square\, Chester
CATEGORIES:Sustainable Event
ATTACH;FMTTYPE=image/png:https://ecocommunitiesuk.com/wp-content/uploads/2026/01/Copy-of-Blog-640-x-428-px-5.png
END:VEVENT
BEGIN:VEVENT
DTSTART;TZID=UTC:20260328T100000
DTEND;TZID=UTC:20260328T163000
DTSTAMP:20260421T083530
CREATED:20251230T170229Z
LAST-MODIFIED:20260211T115201Z
UID:1968-1774692000-1774715400@ecocommunitiesuk.com
SUMMARY:Hoole Green Festival 2026
DESCRIPTION:Stalls – Independent Makers\, Sustainable/Green Organisations\nGreen/ Eco Talks\nSingle Use Plastic Free Bar\nEntertainment\n\n \nHoole Gren Festival A5)
URL:https://ecocommunitiesuk.com/event/hoole-green-festival-2026/
LOCATION:Hoole Community Centre\, Westminster Road\, Hoole Chester\, Cheshire\, CH2 3AP
CATEGORIES:Sustainable Event
ATTACH;FMTTYPE=image/png:https://ecocommunitiesuk.com/wp-content/uploads/2025/12/Screenshot-2026-02-11-115054.png
END:VEVENT
BEGIN:VEVENT
DTSTART;TZID=UTC:20260321T093000
DTEND;TZID=UTC:20260321T163000
DTSTAMP:20260421T083530
CREATED:20260118T153341Z
LAST-MODIFIED:20260118T153341Z
UID:2011-1774085400-1774110600@ecocommunitiesuk.com
SUMMARY:Eco Communities at Chester Farmers Market
DESCRIPTION:Find the team at Chester Farmers Market each month apart from June\, refill and talk to the team about our work and sustainable living.
URL:https://ecocommunitiesuk.com/event/eco-communities-at-chester-farmers-market-2/
LOCATION:Chester Farmers Market\, Chester Town Hall Square\, Chester
CATEGORIES:Sustainable Event
ATTACH;FMTTYPE=image/png:https://ecocommunitiesuk.com/wp-content/uploads/2026/01/Copy-of-Blog-640-x-428-px-5.png
END:VEVENT
BEGIN:VEVENT
DTSTART;TZID=UTC:20260221T093000
DTEND;TZID=UTC:20260221T163000
DTSTAMP:20260421T083530
CREATED:20260201T161255Z
LAST-MODIFIED:20260201T161319Z
UID:2010-1771666200-1771691400@ecocommunitiesuk.com
SUMMARY:Eco Communities at Chester Farmers Market
DESCRIPTION:Find the team at Chester Farmers Market each month apart from June\, refill and talk to the team about our work and sustainable living.
URL:https://ecocommunitiesuk.com/event/eco-communities-at-chester-farmers-market-4/
LOCATION:Chester Farmers Market\, Chester Town Hall Square\, Chester
CATEGORIES:Sustainable Event
ATTACH;FMTTYPE=image/png:https://ecocommunitiesuk.com/wp-content/uploads/2026/01/Copy-of-Blog-640-x-428-px-5.png
END:VEVENT
BEGIN:VEVENT
DTSTART;TZID=UTC:20251206T103000
DTEND;TZID=UTC:20251206T163000
DTSTAMP:20260421T083530
CREATED:20251019T104442Z
LAST-MODIFIED:20251019T104551Z
UID:1802-1765017000-1765038600@ecocommunitiesuk.com
SUMMARY:Hoole Winter Market
DESCRIPTION:This lovely community event brings people together to enjoy festive cheer\, live entertainment and of course – Christmas shopping! \nYou will find the Eco Communities Team with its reusables and the new Refill Scheme \nIf you are a: \nMAKERS\, CREATORS\, ARTISANS AND SMALL BUSINESS OWNERSand want a stall contact the Hoole Community team asap/ \n\n\n What we’ll provide:\n\n\n-A stall space measuring 3ft x 6ft\, with table and chairs.\n-Festive atmosphere with live music\, a choir\, children’s activities\, and hot food.\n-Event marketing and promotion to attract a strong footfall.\n\n\nWhat you’ll need:\n-Public liability insurance for your business (minimum £5m cover)\n-Payment of the £35 stall hire fee\n\n\nadmin@hoolecommunitycentre.org.uk
URL:https://ecocommunitiesuk.com/event/hoole-winter-market/
LOCATION:Hoole Community Centre\, Westminster Road\, Hoole Chester\, Cheshire\, CH2 3AP
CATEGORIES:Sustainable Event
ATTACH;FMTTYPE=image/png:https://ecocommunitiesuk.com/wp-content/uploads/2025/10/Copy-of-Blog-640-x-428-px-9.png
END:VEVENT
BEGIN:VEVENT
DTSTART;TZID=UTC:20251129T103000
DTEND;TZID=UTC:20251129T123000
DTSTAMP:20260421T083530
CREATED:20251124T124249Z
LAST-MODIFIED:20251124T124249Z
UID:1923-1764412200-1764419400@ecocommunitiesuk.com
SUMMARY:Chester Repair Cafe
DESCRIPTION:Chester Repair Café a project from Chester Friends of the Earth brings together skilled volunteers in a friendly\, accessible community environment (with cake!) to repair broken or damaged household items. \nPeople will have the opportunity to bring their items for repair and\, if they want\, to learn how to repair and maintain items themselves. \nThis helps our communities to breathe new life into household items which would otherwise end up in landfill\, incinerated or exported from our country. \nGood cake and a friendly atmosphere are essential\, and all our wonderful volunteers bring plenty of both! \nFuture Repair Café dates \n\nHoole Community Centre the 3rd Saturday of the month – 10.30am – 12.30pm\n\nFor more information about the venue\, including any accessibility enquiries\, please contact us at chesterrepaircafe@gmail.com. \n\n\n\nVolunteer repairers will be on hand for repairs on: \n\nBikes\nClothing and textiles\nTeddies and soft toys\nSmall electricals\nComputers\nWindows 10 end of life support – Windows 10 will stop being supported on 14 October\n\n\nIt’s recommended that you only bring one item at a time to the Repair Café\, because you will need to be with the repairer while the repair is being carried out. If a specific part is needed\, you may be required to purchase the part and bring it back to the Café (either during the session\, or the next one).
URL:https://ecocommunitiesuk.com/event/chester-repair-cafe-5/
LOCATION:Hoole Community Centre\, Westminster Road\, Hoole Chester\, Cheshire\, CH2 3AP
CATEGORIES:Sustainable Event
ATTACH;FMTTYPE=image/png:https://ecocommunitiesuk.com/wp-content/uploads/2025/04/Eevent-Cover-640-x-428-px-2.png
END:VEVENT
BEGIN:VEVENT
DTSTART;TZID=UTC:20250920T103000
DTEND;TZID=UTC:20250920T123000
DTSTAMP:20260421T083530
CREATED:20250729T162013Z
LAST-MODIFIED:20250913T103827Z
UID:1609-1758364200-1758371400@ecocommunitiesuk.com
SUMMARY:Chester Repair Cafe
DESCRIPTION:Chester Repair Café a project from Chester Friends of the Earth brings together skilled volunteers in a friendly\, accessible community environment (with cake!) to repair broken or damaged household items. \nPeople will have the opportunity to bring their items for repair and\, if they want\, to learn how to repair and maintain items themselves. \nThis helps our communities to breathe new life into household items which would otherwise end up in landfill\, incinerated or exported from our country. \nGood cake and a friendly atmosphere are essential\, and all our wonderful volunteers bring plenty of both! \nFuture Repair Café dates \n\nHoole Community Centre the 3rd Saturday of the month – 10.30am – 12.30pm\n\nFor more information about the venue\, including any accessibility enquiries\, please contact us at chesterrepaircafe@gmail.com. \n\n\n\nVolunteer repairers will be on hand for repairs on: \n\nBikes\nClothing and textiles\nTeddies and soft toys\nSmall electricals\nComputers\nWindows 10 end of life support – Windows 10 will stop being supported on 14 October\n\n\nIt’s recommended that you only bring one item at a time to the Repair Café\, because you will need to be with the repairer while the repair is being carried out. If a specific part is needed\, you may be required to purchase the part and bring it back to the Café (either during the session\, or the next one).
URL:https://ecocommunitiesuk.com/event/chester-repair-cafe-4/
LOCATION:Hoole Community Centre\, Westminster Road\, Hoole Chester\, Cheshire\, CH2 3AP
CATEGORIES:Sustainable Event
ATTACH;FMTTYPE=image/png:https://ecocommunitiesuk.com/wp-content/uploads/2025/04/Eevent-Cover-640-x-428-px-2.png
END:VEVENT
BEGIN:VEVENT
DTSTART;TZID=UTC:20250920T093000
DTEND;TZID=UTC:20250920T163000
DTSTAMP:20260421T083530
CREATED:20250811T162600Z
LAST-MODIFIED:20250811T162600Z
UID:1612-1758360600-1758385800@ecocommunitiesuk.com
SUMMARY:Chester Green Weekend at Chester Farmers Market
DESCRIPTION:
URL:https://ecocommunitiesuk.com/event/chester-green-weekend-at-chester-farmers-market/
LOCATION:Chester Farmers Market\, Chester Town Hall Square\, Chester
CATEGORIES:Sustainable Event
ATTACH;FMTTYPE=image/png:https://ecocommunitiesuk.com/wp-content/uploads/2025/01/Farmer-Market-Cup-Club-640-x-428-px-1.png
END:VEVENT
BEGIN:VEVENT
DTSTART;TZID=UTC:20250816T093000
DTEND;TZID=UTC:20250816T163000
DTSTAMP:20260421T083530
CREATED:20250210T093241Z
LAST-MODIFIED:20250729T162641Z
UID:1353-1755336600-1755361800@ecocommunitiesuk.com
SUMMARY:Chester Green Weekend at Chester Farmers Market
DESCRIPTION:
URL:https://ecocommunitiesuk.com/event/cheshire-cup-club-at-chester-farmers-market/
LOCATION:Chester Farmers Market\, Chester Town Hall Square\, Chester
CATEGORIES:Sustainable Event
ATTACH;FMTTYPE=image/png:https://ecocommunitiesuk.com/wp-content/uploads/2025/01/Farmer-Market-Cup-Club-640-x-428-px-1.png
END:VEVENT
BEGIN:VEVENT
DTSTART;TZID=UTC:20250719T103000
DTEND;TZID=UTC:20250719T123000
DTSTAMP:20260421T083530
CREATED:20250625T152204Z
LAST-MODIFIED:20250625T152204Z
UID:1584-1752921000-1752928200@ecocommunitiesuk.com
SUMMARY:Chester Repair Cafe
DESCRIPTION:Chester Repair Café a project from Chester Friends of the Earth brings together skilled volunteers in a friendly\, accessible community environment (with cake!) to repair broken or damaged household items. \nPeople will have the opportunity to bring their items for repair and\, if they want\, to learn how to repair and maintain items themselves. \nThis helps our communities to breathe new life into household items which would otherwise end up in landfill\, incinerated or exported from our country. \nGood cake and a friendly atmosphere are essential\, and all our wonderful volunteers bring plenty of both! \nFuture Repair Café dates \n\nHoole Community Centre the 3rd Saturday of the month – 10.30am – 12.30pm\n\nFor more information about the venue\, including any accessibility enquiries\, please contact us at chesterrepaircafe@gmail.com. \nBring along your broken items and our handy volunteers will do their best to give them a new lease of life and save them from landfill! Repairers can be different for each Repair Café\, but are generally able to work on: \n\nSmall electricals (no microwaves)\nClothes\, textiles and teddies\nBicycles\n\nIt’s recommended that you only bring one item at a time to the Repair Café\, because you will need to be with the repairer while the repair is being carried out. If a specific part is needed\, you may be required to purchase the part and bring it back to the Café (either during the session\, or the next one).
URL:https://ecocommunitiesuk.com/event/chester-repair-cafe-3/
LOCATION:Hoole Community Centre\, Westminster Road\, Hoole Chester\, Cheshire\, CH2 3AP
CATEGORIES:Sustainable Event
ATTACH;FMTTYPE=image/png:https://ecocommunitiesuk.com/wp-content/uploads/2025/04/Eevent-Cover-640-x-428-px-2.png
END:VEVENT
BEGIN:VEVENT
DTSTART;TZID=UTC:20250607T110000
DTEND;TZID=UTC:20250608T170000
DTSTAMP:20260421T083530
CREATED:20250526T181619Z
LAST-MODIFIED:20250526T183932Z
UID:1489-1749294000-1749402000@ecocommunitiesuk.com
SUMMARY:Chester Zoo @ Chester Green Weekend
DESCRIPTION:Chester Zoo will be in Deans Field with lots of activities to join in Saturday and Sunday of Chester Green Weekend. \nCome play games with Chester Zoo and learn about how to live more sustainably. From our phones to our food\, our everyday choices have an impact on the environment. \nYou can also join in on one of their workshops where you can learn how to connect with nature through photography or discover the wildlife living around Chester Cathedral. Workshops will run on the hour from the Chester Zoo stall for thirty minutes. \nNo booking needed for either of these activities. \n 
URL:https://ecocommunitiesuk.com/event/chesterzoo/
LOCATION:The Dean’s Field\, Chester Cathedral\, Chester\, CH1 2DY\, United Kingdom
CATEGORIES:Chester Green Weekend Event,Sustainable Event
ATTACH;FMTTYPE=image/png:https://ecocommunitiesuk.com/wp-content/uploads/2025/05/Blog-640-x-428-px-1.png
ORGANIZER;CN="Chester Green Weekend":MAILTO:office@sustainablecheshire.uk
END:VEVENT
BEGIN:VEVENT
DTSTART;TZID=UTC:20250517T103000
DTEND;TZID=UTC:20250517T123000
DTSTAMP:20260421T083530
CREATED:20250414T172658Z
LAST-MODIFIED:20250414T173725Z
UID:1436-1747477800-1747485000@ecocommunitiesuk.com
SUMMARY:Chester Repair Cafe
DESCRIPTION:Chester Repair Café a project from Chester Friends of the Earth brings together skilled volunteers in a friendly\, accessible community environment (with cake!) to repair broken or damaged household items. \nPeople will have the opportunity to bring their items for repair and\, if they want\, to learn how to repair and maintain items themselves. \nThis helps our communities to breathe new life into household items which would otherwise end up in landfill\, incinerated or exported from our country. \nGood cake and a friendly atmosphere are essential\, and all our wonderful volunteers bring plenty of both! \n  \nWhen is the next Chester Repair Café? \n\n\n\n\nDate:\nSaturday 17 May 2025\n\n\nTime:\n10.30am to 12.30pm (volunteers to arrive at 10am)\n\n\nLocation:\nSt Martin’s Academy\, 91 Hoole Road\, Chester\, CH2 3NG\n\n\n\n\nFor more information about the venue\, including any accessibility enquiries\, please contact us at chesterrepaircafe@gmail.com. \nBring along your broken items and our handy volunteers will do their best to give them a new lease of life and save them from landfill! Repairers can be different for each Repair Café\, but are generally able to work on: \n\nSmall electricals (no microwaves)\nClothes\, textiles and teddies\nBicycles\n\nIt’s recommended that you only bring one item at a time to the Repair Café\, because you will need to be with the repairer while the repair is being carried out. If a specific part is needed\, you may be required to purchase the part and bring it back to the Café (either during the session\, or the next one). \nFuture Repair Café dates \n\nSaturday 21 June 2025\nFurther dates TBC – usually the 3rd Saturday of the month
URL:https://ecocommunitiesuk.com/event/chester-repair-cafe-2/
LOCATION:Hoole Community Centre\, Westminster Road\, Hoole Chester\, Cheshire\, CH2 3AP
CATEGORIES:Sustainable Event
ATTACH;FMTTYPE=image/png:https://ecocommunitiesuk.com/wp-content/uploads/2025/04/Eevent-Cover-640-x-428-px-2.png
END:VEVENT
BEGIN:VEVENT
DTSTART;TZID=UTC:20250510T120000
DTEND;TZID=UTC:20250510T160000
DTSTAMP:20260421T083530
CREATED:20250410T094610Z
LAST-MODIFIED:20250410T094756Z
UID:1426-1746878400-1746892800@ecocommunitiesuk.com
SUMMARY:Hoole Vegan Market
DESCRIPTION:Join Hoole Community Centre and Tipsy Badger for the very first Vegan Market at Hoole Community Centre!\n\nWhether you’re vegan\, plant-curious\, or just love delicious food and a great day out\, this event is for everyone!\n\n Delicious Vegan Food – Our very own Hobson’s Cafe will be going plant-based for the day! Come and try some gorgeous homemade vegan eats.\n Vegan Stalls – Browse a lovely variety of food\, drinks\, skincare\, jewellery and clothing.\n Live Entertainment – Musical performances not to be missed TBC\n Informative Sessions – FREE drop in sessions on the day\, including a cooking (and tasting!) showcase and a ‘vegan mythbuster’ session.
URL:https://ecocommunitiesuk.com/event/hoole-vegan-market/
LOCATION:Hoole Community Centre\, Westminster Road\, Hoole Chester\, Cheshire\, CH2 3AP
CATEGORIES:Sustainable Event
ATTACH;FMTTYPE=image/png:https://ecocommunitiesuk.com/wp-content/uploads/2025/04/Eevent-Cover-640-x-428-px-1.png
END:VEVENT
BEGIN:VEVENT
DTSTART;TZID=UTC:20250507T190000
DTEND;TZID=UTC:20250507T210000
DTSTAMP:20260421T083530
CREATED:20250410T091545Z
LAST-MODIFIED:20250414T164309Z
UID:1419-1746644400-1746651600@ecocommunitiesuk.com
SUMMARY:The Catwalk Fundraising Evening
DESCRIPTION:This year\, we hope to end the weekend with a bold statement\,  only with your support can we bring The Catwalk to life which backs ethical/ sustainable fashion in our community. \n✨ Join us for an evening of drinks\, talks\, and creative inspiration to help bring The Catwalk to life. \nWhat to Expect: \n• A night of eco-conscious glamour \n• Drinks\, talks\, and behind-the-scenes stories \n• Inspiring company and bold design \n• A creative atmosphere charged with purpose \n  \nDonation £40 to the fundraiser – see Reward on Crowdfunder to book. \n 
URL:https://ecocommunitiesuk.com/event/the-catwalk-fundraising-evening/
LOCATION:BEPOXOH Pop-Up Store\, 17–21 Werburgh Street\, Chester\, United Kingdom
CATEGORIES:Sustainable Event
ATTACH;FMTTYPE=image/png:https://ecocommunitiesuk.com/wp-content/uploads/2025/04/Untitled-640-x-428-px-1.png
ORGANIZER;CN="Eco Communities":MAILTO:office@sustainablecheshire.uk
END:VEVENT
BEGIN:VEVENT
DTSTART;TZID=UTC:20250426T103000
DTEND;TZID=UTC:20250426T123000
DTSTAMP:20260421T083530
CREATED:20250414T172311Z
LAST-MODIFIED:20250414T173622Z
UID:1433-1745663400-1745670600@ecocommunitiesuk.com
SUMMARY:Chester Repair Cafe
DESCRIPTION:Chester Repair Café a project from Chester Friends of the Earth brings together skilled volunteers in a friendly\, accessible community environment (with cake!) to repair broken or damaged household items. \nPeople will have the opportunity to bring their items for repair and\, if they want\, to learn how to repair and maintain items themselves. \nThis helps our communities to breathe new life into household items which would otherwise end up in landfill\, incinerated or exported from our country. \nGood cake and a friendly atmosphere are essential\, and all our wonderful volunteers bring plenty of both! \n  \nWhen is the next Chester Repair Café? \n\n\n\n\nDate:\n Saturday 26 April 2025\n\n\nTime:\n10.30am to 12.30pm (volunteers to arrive at 10am)\n\n\nLocation:\nSt Martin’s Academy\, 91 Hoole Road\, Chester\, CH2 3NG\n\n\n\n\nFor more information about the venue\, including any accessibility enquiries\, please contact us at chesterrepaircafe@gmail.com. \nBring along your broken items and our handy volunteers will do their best to give them a new lease of life and save them from landfill! Repairers can be different for each Repair Café\, but are generally able to work on: \n\nSmall electricals (no microwaves)\nClothes\, textiles and teddies\nBicycles\n\nIt’s recommended that you only bring one item at a time to the Repair Café\, because you will need to be with the repairer while the repair is being carried out. If a specific part is needed\, you may be required to purchase the part and bring it back to the Café (either during the session\, or the next one). \nFuture Repair Café dates \n\nSaturday 17 May 2025\nSaturday 21 June 2025\nFurther dates TBC – usually the 3rd Saturday of the month
URL:https://ecocommunitiesuk.com/event/chester-repair-cafe/
LOCATION:Hoole Community Centre\, Westminster Road\, Hoole Chester\, Cheshire\, CH2 3AP
CATEGORIES:Sustainable Event
ATTACH;FMTTYPE=image/png:https://ecocommunitiesuk.com/wp-content/uploads/2025/04/Eevent-Cover-640-x-428-px-2.png
END:VEVENT
BEGIN:VEVENT
DTSTART;TZID=UTC:20250118T103000
DTEND;TZID=UTC:20250118T160000
DTSTAMP:20260421T083530
CREATED:20250210T093245Z
LAST-MODIFIED:20250210T093245Z
UID:1343-1737196200-1737216000@ecocommunitiesuk.com
SUMMARY:Green Action Fair
DESCRIPTION:Join the Hoole Community Centre and Eco Communities team for a fantastic day of activities\, music\, workshops and more to give you lots of eco tips for 2025. From cloths swaps to repairing your broken items\, come along and get involved. \n 
URL:https://ecocommunitiesuk.com/event/green-action-fair/
LOCATION:Hoole Community Centre\, Westminster Road\, Hoole Chester\, Cheshire\, CH2 3AP
CATEGORIES:Sustainable Event
ATTACH;FMTTYPE=image/png:https://ecocommunitiesuk.com/wp-content/uploads/2025/01/Green-Action-Fair-events-page-1.png
ORGANIZER;CN="Eco Communities":MAILTO:office@sustainablecheshire.uk
END:VEVENT
END:VCALENDAR