BEGIN:VCALENDAR
VERSION:2.0
PRODID:-//Eco Communities - ECPv6.15.20//NONSGML v1.0//EN
CALSCALE:GREGORIAN
METHOD:PUBLISH
X-WR-CALNAME:Eco Communities
X-ORIGINAL-URL:https://ecocommunitiesuk.com
X-WR-CALDESC:Events for Eco Communities
REFRESH-INTERVAL;VALUE=DURATION:PT1H
X-Robots-Tag:noindex
X-PUBLISHED-TTL:PT1H
BEGIN:VTIMEZONE
TZID:UTC
BEGIN:STANDARD
TZOFFSETFROM:+0000
TZOFFSETTO:+0000
TZNAME:UTC
DTSTART:20240101T000000
END:STANDARD
END:VTIMEZONE
BEGIN:VEVENT
DTSTART;TZID=UTC:20250607T110000
DTEND;TZID=UTC:20250608T170000
DTSTAMP:20260420T172802
CREATED:20250526T181619Z
LAST-MODIFIED:20250526T183932Z
UID:1489-1749294000-1749402000@ecocommunitiesuk.com
SUMMARY:Chester Zoo @ Chester Green Weekend
DESCRIPTION:Chester Zoo will be in Deans Field with lots of activities to join in Saturday and Sunday of Chester Green Weekend. \nCome play games with Chester Zoo and learn about how to live more sustainably. From our phones to our food\, our everyday choices have an impact on the environment. \nYou can also join in on one of their workshops where you can learn how to connect with nature through photography or discover the wildlife living around Chester Cathedral. Workshops will run on the hour from the Chester Zoo stall for thirty minutes. \nNo booking needed for either of these activities. \n 
URL:https://ecocommunitiesuk.com/event/chesterzoo/
LOCATION:The Dean’s Field\, Chester Cathedral\, Chester\, CH1 2DY\, United Kingdom
CATEGORIES:Chester Green Weekend Event,Sustainable Event
ATTACH;FMTTYPE=image/png:https://ecocommunitiesuk.com/wp-content/uploads/2025/05/Blog-640-x-428-px-1.png
ORGANIZER;CN="Chester Green Weekend":MAILTO:office@sustainablecheshire.uk
END:VEVENT
END:VCALENDAR