BEGIN:VCALENDAR
VERSION:2.0
PRODID:-//Eco Communities - ECPv6.15.20//NONSGML v1.0//EN
CALSCALE:GREGORIAN
METHOD:PUBLISH
X-ORIGINAL-URL:https://ecocommunitiesuk.com
X-WR-CALDESC:Events for Eco Communities
REFRESH-INTERVAL;VALUE=DURATION:PT1H
X-Robots-Tag:noindex
X-PUBLISHED-TTL:PT1H
BEGIN:VTIMEZONE
TZID:UTC
BEGIN:STANDARD
TZOFFSETFROM:+0000
TZOFFSETTO:+0000
TZNAME:UTC
DTSTART:20240101T000000
END:STANDARD
END:VTIMEZONE
BEGIN:VEVENT
DTSTART;TZID=UTC:20250510T120000
DTEND;TZID=UTC:20250510T160000
DTSTAMP:20260420T140423
CREATED:20250410T094610Z
LAST-MODIFIED:20250410T094756Z
UID:1426-1746878400-1746892800@ecocommunitiesuk.com
SUMMARY:Hoole Vegan Market
DESCRIPTION:Join Hoole Community Centre and Tipsy Badger for the very first Vegan Market at Hoole Community Centre!\n\nWhether you’re vegan\, plant-curious\, or just love delicious food and a great day out\, this event is for everyone!\n\n Delicious Vegan Food – Our very own Hobson’s Cafe will be going plant-based for the day! Come and try some gorgeous homemade vegan eats.\n Vegan Stalls – Browse a lovely variety of food\, drinks\, skincare\, jewellery and clothing.\n Live Entertainment – Musical performances not to be missed TBC\n Informative Sessions – FREE drop in sessions on the day\, including a cooking (and tasting!) showcase and a ‘vegan mythbuster’ session.
URL:https://ecocommunitiesuk.com/event/hoole-vegan-market/
LOCATION:Hoole Community Centre\, Westminster Road\, Hoole Chester\, Cheshire\, CH2 3AP
CATEGORIES:Sustainable Event
ATTACH;FMTTYPE=image/png:https://ecocommunitiesuk.com/wp-content/uploads/2025/04/Eevent-Cover-640-x-428-px-1.png
END:VEVENT
END:VCALENDAR