BEGIN:VCALENDAR
VERSION:2.0
PRODID:-//Eco Communities - ECPv6.15.20//NONSGML v1.0//EN
CALSCALE:GREGORIAN
METHOD:PUBLISH
X-WR-CALNAME:Eco Communities
X-ORIGINAL-URL:https://ecocommunitiesuk.com
X-WR-CALDESC:Events for Eco Communities
REFRESH-INTERVAL;VALUE=DURATION:PT1H
X-Robots-Tag:noindex
X-PUBLISHED-TTL:PT1H
BEGIN:VTIMEZONE
TZID:UTC
BEGIN:STANDARD
TZOFFSETFROM:+0000
TZOFFSETTO:+0000
TZNAME:UTC
DTSTART:20240101T000000
END:STANDARD
END:VTIMEZONE
BEGIN:VEVENT
DTSTART;TZID=UTC:20251206T103000
DTEND;TZID=UTC:20251206T163000
DTSTAMP:20260419T164203
CREATED:20251019T104442Z
LAST-MODIFIED:20251019T104551Z
UID:1802-1765017000-1765038600@ecocommunitiesuk.com
SUMMARY:Hoole Winter Market
DESCRIPTION:This lovely community event brings people together to enjoy festive cheer\, live entertainment and of course – Christmas shopping! \nYou will find the Eco Communities Team with its reusables and the new Refill Scheme \nIf you are a: \nMAKERS\, CREATORS\, ARTISANS AND SMALL BUSINESS OWNERSand want a stall contact the Hoole Community team asap/ \n\n\n What we’ll provide:\n\n\n-A stall space measuring 3ft x 6ft\, with table and chairs.\n-Festive atmosphere with live music\, a choir\, children’s activities\, and hot food.\n-Event marketing and promotion to attract a strong footfall.\n\n\nWhat you’ll need:\n-Public liability insurance for your business (minimum £5m cover)\n-Payment of the £35 stall hire fee\n\n\nadmin@hoolecommunitycentre.org.uk
URL:https://ecocommunitiesuk.com/event/hoole-winter-market/
LOCATION:Hoole Community Centre\, Westminster Road\, Hoole Chester\, Cheshire\, CH2 3AP
CATEGORIES:Sustainable Event
ATTACH;FMTTYPE=image/png:https://ecocommunitiesuk.com/wp-content/uploads/2025/10/Copy-of-Blog-640-x-428-px-9.png
END:VEVENT
END:VCALENDAR