BEGIN:VCALENDAR
VERSION:2.0
PRODID:-//Eco Communities - ECPv6.15.20//NONSGML v1.0//EN
CALSCALE:GREGORIAN
METHOD:PUBLISH
X-WR-CALNAME:Eco Communities
X-ORIGINAL-URL:https://ecocommunitiesuk.com
X-WR-CALDESC:Events for Eco Communities
REFRESH-INTERVAL;VALUE=DURATION:PT1H
X-Robots-Tag:noindex
X-PUBLISHED-TTL:PT1H
BEGIN:VTIMEZONE
TZID:UTC
BEGIN:STANDARD
TZOFFSETFROM:+0000
TZOFFSETTO:+0000
TZNAME:UTC
DTSTART:20240101T000000
END:STANDARD
END:VTIMEZONE
BEGIN:VEVENT
DTSTART;TZID=UTC:20250816T093000
DTEND;TZID=UTC:20250816T163000
DTSTAMP:20260420T055119
CREATED:20250210T093241Z
LAST-MODIFIED:20250729T162641Z
UID:1353-1755336600-1755361800@ecocommunitiesuk.com
SUMMARY:Chester Green Weekend at Chester Farmers Market
DESCRIPTION:
URL:https://ecocommunitiesuk.com/event/cheshire-cup-club-at-chester-farmers-market/
LOCATION:Chester Farmers Market\, Chester Town Hall Square\, Chester
CATEGORIES:Sustainable Event
ATTACH;FMTTYPE=image/png:https://ecocommunitiesuk.com/wp-content/uploads/2025/01/Farmer-Market-Cup-Club-640-x-428-px-1.png
END:VEVENT
END:VCALENDAR