BEGIN:VCALENDAR
VERSION:2.0
PRODID:-//Eco Communities - ECPv6.15.20//NONSGML v1.0//EN
CALSCALE:GREGORIAN
METHOD:PUBLISH
X-ORIGINAL-URL:https://ecocommunitiesuk.com
X-WR-CALDESC:Events for Eco Communities
REFRESH-INTERVAL;VALUE=DURATION:PT1H
X-Robots-Tag:noindex
X-PUBLISHED-TTL:PT1H
BEGIN:VTIMEZONE
TZID:UTC
BEGIN:STANDARD
TZOFFSETFROM:+0000
TZOFFSETTO:+0000
TZNAME:UTC
DTSTART:20240101T000000
END:STANDARD
END:VTIMEZONE
BEGIN:VEVENT
DTSTART;TZID=UTC:20250719T103000
DTEND;TZID=UTC:20250719T123000
DTSTAMP:20260420T071711
CREATED:20250625T152204Z
LAST-MODIFIED:20250625T152204Z
UID:1584-1752921000-1752928200@ecocommunitiesuk.com
SUMMARY:Chester Repair Cafe
DESCRIPTION:Chester Repair Café a project from Chester Friends of the Earth brings together skilled volunteers in a friendly\, accessible community environment (with cake!) to repair broken or damaged household items. \nPeople will have the opportunity to bring their items for repair and\, if they want\, to learn how to repair and maintain items themselves. \nThis helps our communities to breathe new life into household items which would otherwise end up in landfill\, incinerated or exported from our country. \nGood cake and a friendly atmosphere are essential\, and all our wonderful volunteers bring plenty of both! \nFuture Repair Café dates \n\nHoole Community Centre the 3rd Saturday of the month – 10.30am – 12.30pm\n\nFor more information about the venue\, including any accessibility enquiries\, please contact us at chesterrepaircafe@gmail.com. \nBring along your broken items and our handy volunteers will do their best to give them a new lease of life and save them from landfill! Repairers can be different for each Repair Café\, but are generally able to work on: \n\nSmall electricals (no microwaves)\nClothes\, textiles and teddies\nBicycles\n\nIt’s recommended that you only bring one item at a time to the Repair Café\, because you will need to be with the repairer while the repair is being carried out. If a specific part is needed\, you may be required to purchase the part and bring it back to the Café (either during the session\, or the next one).
URL:https://ecocommunitiesuk.com/event/chester-repair-cafe-3/
LOCATION:Hoole Community Centre\, Westminster Road\, Hoole Chester\, Cheshire\, CH2 3AP
CATEGORIES:Sustainable Event
ATTACH;FMTTYPE=image/png:https://ecocommunitiesuk.com/wp-content/uploads/2025/04/Eevent-Cover-640-x-428-px-2.png
END:VEVENT
END:VCALENDAR