BEGIN:VCALENDAR
VERSION:2.0
PRODID:-//Eco Communities - ECPv6.15.20//NONSGML v1.0//EN
CALSCALE:GREGORIAN
METHOD:PUBLISH
X-WR-CALNAME:Eco Communities
X-ORIGINAL-URL:https://ecocommunitiesuk.com
X-WR-CALDESC:Events for Eco Communities
REFRESH-INTERVAL;VALUE=DURATION:PT1H
X-Robots-Tag:noindex
X-PUBLISHED-TTL:PT1H
BEGIN:VTIMEZONE
TZID:UTC
BEGIN:STANDARD
TZOFFSETFROM:+0000
TZOFFSETTO:+0000
TZNAME:UTC
DTSTART:20240101T000000
END:STANDARD
END:VTIMEZONE
BEGIN:VEVENT
DTSTART;TZID=UTC:20250829T173000
DTEND;TZID=UTC:20250829T183000
DTSTAMP:20260421T144004
CREATED:20250815T165914Z
LAST-MODIFIED:20250816T205626Z
UID:1623-1756488600-1756492200@ecocommunitiesuk.com
SUMMARY:Litter Pick'n'Chips
DESCRIPTION:Join the Eco Communities team\, local volunteers and residents in this community litter pick. We will meet outside Fish & Chips @ Weston Grove. From there we will fan out around the local area and get picking! It’s a great way to work up an appetite ready for a well deserved bag of chips at the end. \nFIRST 10 PEOPLE TO SIGN UP RECEIVE A FREE BAG OF CHIPS! \n  \n \nThe activity is family and dog friendly.  We are more than dog friendly\, we actively encourage you to bring your pooches along. \nAll equipment is provided but please wear suitable clothing and footwear for the weather. \nFancy arranging you own litter pick? You are able to borrow litter picking equipment to carry out your own pick anytime\, there are litter pick hubs dotted around Chester – go to the Community Clean Ups & Litter Pick Hubs | Eco Communities (ecocommunitiesuk.com) website.
URL:https://ecocommunitiesuk.com/event/litter-picknchips/
LOCATION:Fish and Chips @ Weston Grove\, CH2 1QL
CATEGORIES:Litter Pick
ATTACH;FMTTYPE=image/png:https://ecocommunitiesuk.com/wp-content/uploads/2025/06/BLOG-Litter-picks-640-x-428-px.png
ORGANIZER;CN="Eco Communities":MAILTO:office@sustainablecheshire.uk
END:VEVENT
END:VCALENDAR