BEGIN:VCALENDAR
VERSION:2.0
PRODID:-//Eco Communities - ECPv6.15.20//NONSGML v1.0//EN
CALSCALE:GREGORIAN
METHOD:PUBLISH
X-WR-CALNAME:Eco Communities
X-ORIGINAL-URL:https://ecocommunitiesuk.com
X-WR-CALDESC:Events for Eco Communities
REFRESH-INTERVAL;VALUE=DURATION:PT1H
X-Robots-Tag:noindex
X-PUBLISHED-TTL:PT1H
BEGIN:VTIMEZONE
TZID:Europe/London
BEGIN:DAYLIGHT
TZOFFSETFROM:+0000
TZOFFSETTO:+0100
TZNAME:BST
DTSTART:20240331T010000
END:DAYLIGHT
BEGIN:STANDARD
TZOFFSETFROM:+0100
TZOFFSETTO:+0000
TZNAME:GMT
DTSTART:20241027T010000
END:STANDARD
BEGIN:DAYLIGHT
TZOFFSETFROM:+0000
TZOFFSETTO:+0100
TZNAME:BST
DTSTART:20250330T010000
END:DAYLIGHT
BEGIN:STANDARD
TZOFFSETFROM:+0100
TZOFFSETTO:+0000
TZNAME:GMT
DTSTART:20251026T010000
END:STANDARD
BEGIN:DAYLIGHT
TZOFFSETFROM:+0000
TZOFFSETTO:+0100
TZNAME:BST
DTSTART:20260329T010000
END:DAYLIGHT
BEGIN:STANDARD
TZOFFSETFROM:+0100
TZOFFSETTO:+0000
TZNAME:GMT
DTSTART:20261025T010000
END:STANDARD
END:VTIMEZONE
BEGIN:VEVENT
DTSTART;TZID=Europe/London:20251109T140000
DTEND;TZID=Europe/London:20251109T150000
DTSTAMP:20260419T161750
CREATED:20251010T140053Z
LAST-MODIFIED:20251012T125849Z
UID:1767-1762696800-1762700400@ecocommunitiesuk.com
SUMMARY:Litter Pick'n'Pint
DESCRIPTION:Join the Eco Communities team\, local volunteers and residents in this community litter pick. We will meet in the car park of the Little Theatre. From there we will fan out around the local area and get picking! \nThe theatre has kindly agreed to open the bar for a well deserved beverage and the opportunity to chat and get to know your fellow pickers. \nPick and Pint – alcoholic and soft drinks are available.  Soft drinks will be available free of charge. \nThe activity is family and dog friendly. We are more than dog friendly\, we actively encourage you to bring your pooches along. \nAll equipment is provided but please wear suitable clothing and footwear for the weather. \nFancy arranging you own litter pick? You are able to borrow litter picking equipment to carry out your own pick anytime\, there are litter pick hubs dotted around Chester – go to the Community Clean Ups & Litter Pick Hubs | Eco Communities (ecocommunitiesuk.com) website.
URL:https://ecocommunitiesuk.com/event/litter-picknpint/
LOCATION:Private: Chester Little Theatre\, Gloucester St\, Chester\, CH1 3HR
CATEGORIES:Litter Pick
ATTACH;FMTTYPE=image/png:https://ecocommunitiesuk.com/wp-content/uploads/2025/06/BLOG-Litter-picks-640-x-428-px.png
ORGANIZER;CN="Eco Communities":MAILTO:office@sustainablecheshire.uk
END:VEVENT
END:VCALENDAR