BEGIN:VCALENDAR
VERSION:2.0
PRODID:-//Eco Communities - ECPv6.15.20//NONSGML v1.0//EN
CALSCALE:GREGORIAN
METHOD:PUBLISH
X-WR-CALNAME:Eco Communities
X-ORIGINAL-URL:https://ecocommunitiesuk.com
X-WR-CALDESC:Events for Eco Communities
REFRESH-INTERVAL;VALUE=DURATION:PT1H
X-Robots-Tag:noindex
X-PUBLISHED-TTL:PT1H
BEGIN:VTIMEZONE
TZID:UTC
BEGIN:STANDARD
TZOFFSETFROM:+0000
TZOFFSETTO:+0000
TZNAME:UTC
DTSTART:20240101T000000
END:STANDARD
END:VTIMEZONE
BEGIN:VEVENT
DTSTART;TZID=UTC:20250719T140000
DTEND;TZID=UTC:20250719T150000
DTSTAMP:20260421T161514
CREATED:20250625T152618Z
LAST-MODIFIED:20250629T171722Z
UID:1583-1752933600-1752937200@ecocommunitiesuk.com
SUMMARY:Community Litter Pick
DESCRIPTION:Join the Eco Communities team\, local volunteers and residents in this community litter pick. We will meet at Curzon Street Car Park. From there we will fan out around the local area. There are areas away from roads so you wont need to worry about traffic if you are bringing children along. \nWe will start with The People Vs Plastic Protest we hope you will join in – read more here – CLICK TO READ \nThen after photos we will start our Million Mile Clean Litter Pick. \nWhat three words – ///proven.span.liked \nThe activity is family and dog friendly.  We are more than dog friendly\, we actively encourage you to bring your pooches along. \nAll equipment is provided but please wear suitable clothing and footwear for the weather. \nFancy arranging you own litter pick? You are able to borrow litter picking equipment to carry out your own pick anytime\, there are litter pick hubs dotted around Chester – go to the Community Clean Ups & Litter Pick Hubs | Eco Communities (ecocommunitiesuk.com) website. \n 
URL:https://ecocommunitiesuk.com/event/community-litter-pick-2/
LOCATION:Fish and Chips @ Weston Grove\, CH2 1QL
CATEGORIES:Litter Pick
ATTACH;FMTTYPE=image/png:https://ecocommunitiesuk.com/wp-content/uploads/2025/06/BLOG-Litter-picks-640-x-428-px.png
END:VEVENT
END:VCALENDAR