BEGIN:VCALENDAR
VERSION:2.0
PRODID:-//Eco Communities - ECPv6.15.20//NONSGML v1.0//EN
CALSCALE:GREGORIAN
METHOD:PUBLISH
X-ORIGINAL-URL:https://ecocommunitiesuk.com
X-WR-CALDESC:Events for Eco Communities
REFRESH-INTERVAL;VALUE=DURATION:PT1H
X-Robots-Tag:noindex
X-PUBLISHED-TTL:PT1H
BEGIN:VTIMEZONE
TZID:UTC
BEGIN:STANDARD
TZOFFSETFROM:+0000
TZOFFSETTO:+0000
TZNAME:UTC
DTSTART:20240101T000000
END:STANDARD
END:VTIMEZONE
BEGIN:VEVENT
DTSTART;TZID=UTC:20250519T190000
DTEND;TZID=UTC:20250519T210000
DTSTAMP:20260423T010757
CREATED:20250512T105504Z
LAST-MODIFIED:20250512T110556Z
UID:1472-1747681200-1747688400@ecocommunitiesuk.com
SUMMARY:ACTionism - from Anxiety to Action: Join Us for a Night of Hope\, Community\, and Climate Solutions
DESCRIPTION:At this gathering\, we’ll be screening the short and powerful film ACTionism — a documentary that takes a hopeful\, human look at how people move from feeling overwhelmed to becoming part of meaningful climate solutions. \nWhy this film matters: \nWe previously highlighted that between 80% and 89% of people worldwide want strong government action on climate change. Yet politics and the media often fall short. That’s where we come in. We don’t need to wait for permission to care. We are the 89% read more – CLICK \nACTionism is about how collective action — not just individual effort — can lead to real change. It follows Ellie Meredith’s inspiring personal journey from climate anxiety to empowerment and features insights from John Alexander\, author of Citizens. His message is clear: we thrive when we see ourselves not as consumers\, but as citizens — with agency\, responsibility\, and hope. \nWhat to expect on the night: \n🎥 Film screening💬 Small-group conversations facilitated by Mandi Roberts from Sustainability Consultancy. Helen Tandy and Emily Reid from Eco Communities. \n📘 Takeaway ideas from the Re-Action Collective Handbook\, full of real stories and practical tips on how people like Isabel Mack (founder of Party Kit Network) began their journey and built community-led impact. \nThis evening isn’t just for “activists.” \nIt’s for anyone who’s ever thought \n“I want to help\, but I’m not sure where to start.”\nIt’s for the climate-concerned\, the curious\, the anxious\, the hopeful\, and the everyday changemakers.\n✅ Join us: 19th May at That Beer PlaceLet’s turn climate concern into climate connection. \nBooking is essential due to limited space – BOOK HERE
URL:https://ecocommunitiesuk.com/event/actionism-from-anxiety-to-action-join-us-for-a-night-of-hope-community-and-climate-solutions/
LOCATION:That Beer Place\, 116 Foregate Street\, Chester\, Cheshire\, CH1 1HB\, United Kingdom
CATEGORIES:Chester Green Weekend Event
ATTACH;FMTTYPE=image/png:https://ecocommunitiesuk.com/wp-content/uploads/2025/05/Actionism.png
ORGANIZER;CN="Eco Communities":MAILTO:office@sustainablecheshire.uk
END:VEVENT
END:VCALENDAR